Package: PrInCE Version: 1.18.0 Command: /Library/Frameworks/R.framework/Resources/bin/R CMD build --keep-empty-dirs --no-resave-data PrInCE StartedAt: 2024-04-15 20:58:43 -0400 (Mon, 15 Apr 2024) EndedAt: 2024-04-15 21:03:04 -0400 (Mon, 15 Apr 2024) EllapsedTime: 261.3 seconds RetCode: 0 Status: OK PackageFile: PrInCE_1.18.0.tar.gz PackageFileSize: 1.817 MiB