Package: PoDCall Version: 1.10.1 Command: /Library/Frameworks/R.framework/Resources/bin/R CMD build --keep-empty-dirs --no-resave-data PoDCall StartedAt: 2024-03-03 17:50:30 -0500 (Sun, 03 Mar 2024) EndedAt: 2024-03-03 17:50:55 -0500 (Sun, 03 Mar 2024) EllapsedTime: 24.9 seconds RetCode: 0 Status: OK PackageFile: PoDCall_1.10.1.tar.gz PackageFileSize: 2.999 MiB