Package: PloGO2 Version: 1.14.0 Command: chmod a+r PloGO2 -R && F:\biocbuild\bbs-3.18-bioc\R\bin\R.exe CMD build --keep-empty-dirs --no-resave-data PloGO2 StartedAt: 2024-04-15 20:19:33 -0400 (Mon, 15 Apr 2024) EndedAt: 2024-04-15 20:24:12 -0400 (Mon, 15 Apr 2024) EllapsedTime: 278.6 seconds RetCode: 0 Status: OK PackageFile: PloGO2_1.14.0.tar.gz PackageFileSize: 1.694 MiB