Package: PloGO2 Version: 1.14.0 Command: rm -rf PloGO2.buildbin-libdir && mkdir PloGO2.buildbin-libdir && F:\biocbuild\bbs-3.18-bioc\R\bin\R.exe CMD INSTALL --build --library=PloGO2.buildbin-libdir PloGO2_1.14.0.tar.gz StartedAt: 2024-04-16 07:26:53 -0400 (Tue, 16 Apr 2024) EndedAt: 2024-04-16 07:27:26 -0400 (Tue, 16 Apr 2024) EllapsedTime: 33.3 seconds RetCode: 0 Status: OK PackageFile: PloGO2_1.14.0.zip PackageFileSize: 1.461 MiB