Package: PloGO2 Version: 1.14.0 Command: /home/biocbuild/bbs-3.18-bioc/R/bin/R CMD INSTALL PloGO2 StartedAt: 2024-04-15 15:45:58 -0400 (Mon, 15 Apr 2024) EndedAt: 2024-04-15 15:46:21 -0400 (Mon, 15 Apr 2024) EllapsedTime: 22.9 seconds RetCode: 0 Status: OK