Package: PloGO2 Version: 1.14.0 Command: /home/biocbuild/bbs-3.18-bioc/R/bin/R CMD check --install=check:PloGO2.install-out.txt --library=/home/biocbuild/bbs-3.18-bioc/R/site-library --timings PloGO2_1.14.0.tar.gz StartedAt: 2024-04-16 02:21:25 -0400 (Tue, 16 Apr 2024) EndedAt: 2024-04-16 02:28:50 -0400 (Tue, 16 Apr 2024) EllapsedTime: 445.2 seconds RetCode: 0 Status: WARNINGS CheckDir: PloGO2.Rcheck Warnings: 1