Package: PloGO2 Version: 1.14.0 Command: /Library/Frameworks/R.framework/Resources/bin/R CMD check --install=check:PloGO2.install-out.txt --library=/Library/Frameworks/R.framework/Resources/library --no-vignettes --timings PloGO2_1.14.0.tar.gz StartedAt: 2024-04-16 06:59:52 -0400 (Tue, 16 Apr 2024) EndedAt: 2024-04-16 07:10:39 -0400 (Tue, 16 Apr 2024) EllapsedTime: 646.8 seconds RetCode: 0 Status: OK CheckDir: PloGO2.Rcheck Warnings: 0