Package: PhyloProfile Version: 1.16.5 Command: /home/biocbuild/bbs-3.18-bioc/R/bin/R CMD check --install=check:PhyloProfile.install-out.txt --library=/home/biocbuild/bbs-3.18-bioc/R/site-library --timings PhyloProfile_1.16.5.tar.gz StartedAt: 2024-04-16 02:18:26 -0400 (Tue, 16 Apr 2024) EndedAt: 2024-04-16 02:21:24 -0400 (Tue, 16 Apr 2024) EllapsedTime: 178.3 seconds RetCode: 0 Status: OK CheckDir: PhyloProfile.Rcheck Warnings: 0