Package: PhyloProfile Version: 1.16.3 Command: /Library/Frameworks/R.framework/Resources/bin/R CMD check --install=check:PhyloProfile.install-out.txt --library=/Library/Frameworks/R.framework/Resources/library --no-vignettes --timings PhyloProfile_1.16.3.tar.gz StartedAt: 2024-03-03 22:33:36 -0500 (Sun, 03 Mar 2024) EndedAt: 2024-03-03 22:36:34 -0500 (Sun, 03 Mar 2024) EllapsedTime: 178.4 seconds RetCode: 0 Status: OK CheckDir: PhyloProfile.Rcheck Warnings: 0