Package: PhyloProfile Version: 1.16.3 Command: /Library/Frameworks/R.framework/Resources/bin/R CMD build --keep-empty-dirs --no-resave-data PhyloProfile StartedAt: 2024-03-03 17:49:00 -0500 (Sun, 03 Mar 2024) EndedAt: 2024-03-03 17:49:44 -0500 (Sun, 03 Mar 2024) EllapsedTime: 43.7 seconds RetCode: 0 Status: OK PackageFile: PhyloProfile_1.16.3.tar.gz PackageFileSize: 1.316 MiB