Package: PhosR Version: 1.12.0 Command: /Library/Frameworks/R.framework/Resources/bin/R CMD check --install=check:PhosR.install-out.txt --library=/Library/Frameworks/R.framework/Resources/library --no-vignettes --timings PhosR_1.12.0.tar.gz StartedAt: 2024-03-03 22:33:26 -0500 (Sun, 03 Mar 2024) EndedAt: 2024-03-03 22:40:21 -0500 (Sun, 03 Mar 2024) EllapsedTime: 415.9 seconds RetCode: 0 Status: OK CheckDir: PhosR.Rcheck Warnings: 0