Package: PhenoGeneRanker Version: 1.10.0 Command: /home/biocbuild/R/R-4.3.1/bin/R CMD build --keep-empty-dirs --no-resave-data PhenoGeneRanker StartedAt: 2023-11-02 04:32:12 -0000 (Thu, 02 Nov 2023) EndedAt: 2023-11-02 04:41:18 -0000 (Thu, 02 Nov 2023) EllapsedTime: 545.8 seconds RetCode: 0 Status: OK PackageFile: PhenoGeneRanker_1.10.0.tar.gz PackageFileSize: 28.81 KiB