Package: PhenStat Version: 2.38.0 Command: chmod a+r PhenStat -R && F:\biocbuild\bbs-3.18-bioc\R\bin\R.exe CMD build --keep-empty-dirs --no-resave-data PhenStat StartedAt: 2024-04-15 20:17:40 -0400 (Mon, 15 Apr 2024) EndedAt: 2024-04-15 20:18:26 -0400 (Mon, 15 Apr 2024) EllapsedTime: 46.2 seconds RetCode: 0 Status: OK PackageFile: PhenStat_2.38.0.tar.gz PackageFileSize: 682.9 KiB