Package: PhenStat Version: 2.38.0 Command: rm -rf PhenStat.buildbin-libdir && mkdir PhenStat.buildbin-libdir && F:\biocbuild\bbs-3.18-bioc\R\bin\R.exe CMD INSTALL --build --library=PhenStat.buildbin-libdir PhenStat_2.38.0.tar.gz StartedAt: 2024-04-16 07:26:18 -0400 (Tue, 16 Apr 2024) EndedAt: 2024-04-16 07:26:49 -0400 (Tue, 16 Apr 2024) EllapsedTime: 31.8 seconds RetCode: 0 Status: OK PackageFile: PhenStat_2.38.0.zip PackageFileSize: 1.246 MiB