Package: PhenStat Version: 2.38.0 Command: rm -rf PhenStat.buildbin-libdir && mkdir PhenStat.buildbin-libdir && /Users/biocbuild/BBS/utils/build-universal.sh PhenStat_2.38.0.tar.gz /Library/Frameworks/R.framework/Resources/bin/R PhenStat.buildbin-libdir StartedAt: 2024-04-16 12:25:09 -0400 (Tue, 16 Apr 2024) EndedAt: 2024-04-16 12:25:49 -0400 (Tue, 16 Apr 2024) EllapsedTime: 40.6 seconds RetCode: 0 Status: OK PackageFile: PhenStat_2.38.0.tgz PackageFileSize: 1.249 MiB