Package: PhenStat Version: 2.38.0 Command: /Library/Frameworks/R.framework/Resources/bin/R CMD build --keep-empty-dirs --no-resave-data PhenStat StartedAt: 2024-03-03 17:48:21 -0500 (Sun, 03 Mar 2024) EndedAt: 2024-03-03 17:49:22 -0500 (Sun, 03 Mar 2024) EllapsedTime: 61.0 seconds RetCode: 0 Status: OK PackageFile: PhenStat_2.38.0.tar.gz PackageFileSize: 682.2 KiB