Package: PhenStat Version: 2.38.0 Command: rm -rf PhenStat.buildbin-libdir && mkdir PhenStat.buildbin-libdir && /Users/biocbuild/BBS/utils/build-universal.sh PhenStat_2.38.0.tar.gz /Library/Frameworks/R.framework/Resources/bin/R PhenStat.buildbin-libdir StartedAt: 2024-03-04 00:56:00 -0500 (Mon, 04 Mar 2024) EndedAt: 2024-03-04 00:56:28 -0500 (Mon, 04 Mar 2024) EllapsedTime: 27.5 seconds RetCode: 0 Status: OK PackageFile: PhenStat_2.38.0.tgz PackageFileSize: 1.246 MiB