Package: PhIPData Version: 1.10.0 Command: /home/biocbuild/bbs-3.18-bioc/R/bin/R CMD check --install=check:PhIPData.install-out.txt --library=/home/biocbuild/bbs-3.18-bioc/R/site-library --timings PhIPData_1.10.0.tar.gz StartedAt: 2024-04-16 02:17:18 -0400 (Tue, 16 Apr 2024) EndedAt: 2024-04-16 02:21:52 -0400 (Tue, 16 Apr 2024) EllapsedTime: 274.6 seconds RetCode: 1 Status: ERROR CheckDir: PhIPData.Rcheck Warnings: NA