Package: PepsNMR Version: 1.20.0 Command: /Library/Frameworks/R.framework/Resources/bin/R CMD build --keep-empty-dirs --no-resave-data PepsNMR StartedAt: 2024-04-15 20:49:50 -0400 (Mon, 15 Apr 2024) EndedAt: 2024-04-15 20:59:13 -0400 (Mon, 15 Apr 2024) EllapsedTime: 563.1 seconds RetCode: 0 Status: OK PackageFile: PepsNMR_1.20.0.tar.gz PackageFileSize: 1.265 MiB