Package: PepsNMR Version: 1.20.0 Command: /Library/Frameworks/R.framework/Resources/bin/R CMD build --keep-empty-dirs --no-resave-data PepsNMR StartedAt: 2024-03-03 17:46:49 -0500 (Sun, 03 Mar 2024) EndedAt: 2024-03-03 17:52:51 -0500 (Sun, 03 Mar 2024) EllapsedTime: 361.2 seconds RetCode: 0 Status: OK PackageFile: PepsNMR_1.20.0.tar.gz PackageFileSize: 1.178 MiB