Package: PepsNMR Version: 1.20.0 Command: rm -rf PepsNMR.buildbin-libdir && mkdir PepsNMR.buildbin-libdir && /Users/biocbuild/BBS/utils/build-universal.sh PepsNMR_1.20.0.tar.gz /Library/Frameworks/R.framework/Resources/bin/R PepsNMR.buildbin-libdir StartedAt: 2024-03-04 00:55:52 -0500 (Mon, 04 Mar 2024) EndedAt: 2024-03-04 00:56:07 -0500 (Mon, 04 Mar 2024) EllapsedTime: 15.0 seconds RetCode: 0 Status: OK PackageFile: PepsNMR_1.20.0.tgz PackageFileSize: 1.275 MiB