Package: PathoStat Version: 1.28.0 Command: F:\biocbuild\bbs-3.18-bioc\R\bin\R.exe CMD INSTALL PathoStat StartedAt: 2024-04-15 16:29:39 -0400 (Mon, 15 Apr 2024) EndedAt: 2024-04-15 16:30:28 -0400 (Mon, 15 Apr 2024) EllapsedTime: 49.1 seconds RetCode: 0 Status: OK