Package: PathoStat Version: 1.28.0 Maintainer: Solaiappan Manimaran MaintainerEmail: manimaran_1975 at hotmail.com git_url: https://git.bioconductor.org/packages/PathoStat git_branch: RELEASE_3_18 git_last_commit: e517c5e git_last_commit_date: 2023-10-24 10:53:23 -0400 (Tue, 24 Oct 2023)