Package: PathNet Version: 1.42.0 Command: rm -rf PathNet.buildbin-libdir && mkdir PathNet.buildbin-libdir && /Users/biocbuild/BBS/utils/build-universal.sh PathNet_1.42.0.tar.gz /Library/Frameworks/R.framework/Resources/bin/R PathNet.buildbin-libdir StartedAt: 2024-04-16 12:24:07 -0400 (Tue, 16 Apr 2024) EndedAt: 2024-04-16 12:24:13 -0400 (Tue, 16 Apr 2024) EllapsedTime: 5.7 seconds RetCode: 0 Status: OK PackageFile: PathNet_1.42.0.tgz PackageFileSize: 329.1 KiB