Package: Path2PPI Version: 1.32.0 Command: F:\biocbuild\bbs-3.18-bioc\R\bin\R.exe CMD check --no-multiarch --install=check:Path2PPI.install-out.txt --library=F:\biocbuild\bbs-3.18-bioc\R\library --no-vignettes --timings Path2PPI_1.32.0.tar.gz StartedAt: 2024-04-16 03:36:33 -0400 (Tue, 16 Apr 2024) EndedAt: 2024-04-16 03:37:28 -0400 (Tue, 16 Apr 2024) EllapsedTime: 55.5 seconds RetCode: 0 Status: OK CheckDir: Path2PPI.Rcheck Warnings: 0