Package: Path2PPI Version: 1.32.0 Command: rm -rf Path2PPI.buildbin-libdir && mkdir Path2PPI.buildbin-libdir && F:\biocbuild\bbs-3.18-bioc\R\bin\R.exe CMD INSTALL --build --library=Path2PPI.buildbin-libdir Path2PPI_1.32.0.tar.gz StartedAt: 2024-04-16 07:25:21 -0400 (Tue, 16 Apr 2024) EndedAt: 2024-04-16 07:25:39 -0400 (Tue, 16 Apr 2024) EllapsedTime: 17.4 seconds RetCode: 0 Status: OK PackageFile: Path2PPI_1.32.0.zip PackageFileSize: 1.129 MiB