Package: Path2PPI Version: 1.32.0 Command: rm -rf Path2PPI.buildbin-libdir && mkdir Path2PPI.buildbin-libdir && /Users/biocbuild/BBS/utils/build-universal.sh Path2PPI_1.32.0.tar.gz /Library/Frameworks/R.framework/Resources/bin/R Path2PPI.buildbin-libdir StartedAt: 2024-04-16 12:24:01 -0400 (Tue, 16 Apr 2024) EndedAt: 2024-04-16 12:24:14 -0400 (Tue, 16 Apr 2024) EllapsedTime: 13.4 seconds RetCode: 0 Status: OK PackageFile: Path2PPI_1.32.0.tgz PackageFileSize: 1.332 MiB