Package: PanomiR Version: 1.6.0 Command: chmod a+r PanomiR -R && F:\biocbuild\bbs-3.18-bioc\R\bin\R.exe CMD build --keep-empty-dirs --no-resave-data PanomiR StartedAt: 2024-04-15 20:07:57 -0400 (Mon, 15 Apr 2024) EndedAt: 2024-04-15 20:08:44 -0400 (Mon, 15 Apr 2024) EllapsedTime: 46.9 seconds RetCode: 0 Status: OK PackageFile: PanomiR_1.6.0.tar.gz PackageFileSize: 1.98 MiB