Package: PanomiR Version: 1.6.0 Command: /Library/Frameworks/R.framework/Resources/bin/R CMD build --keep-empty-dirs --no-resave-data PanomiR StartedAt: 2024-04-15 20:44:27 -0400 (Mon, 15 Apr 2024) EndedAt: 2024-04-15 20:45:41 -0400 (Mon, 15 Apr 2024) EllapsedTime: 73.9 seconds RetCode: 0 Status: OK PackageFile: PanomiR_1.6.0.tar.gz PackageFileSize: 1.98 MiB