Package: PanViz Version: 1.4.0 Command: /Library/Frameworks/R.framework/Resources/bin/R CMD check --install=check:PanViz.install-out.txt --library=/Library/Frameworks/R.framework/Resources/library --no-vignettes --timings PanViz_1.4.0.tar.gz StartedAt: 2024-04-16 06:41:50 -0400 (Tue, 16 Apr 2024) EndedAt: 2024-04-16 06:44:07 -0400 (Tue, 16 Apr 2024) EllapsedTime: 136.9 seconds RetCode: 0 Status: OK CheckDir: PanViz.Rcheck Warnings: 0