Package: PanViz Version: 1.4.0 Command: /home/biocbuild/R/R-4.3.1/bin/R CMD check --install=check:PanViz.install-out.txt --library=/home/biocbuild/R/R-4.3.1/site-library --no-vignettes --timings PanViz_1.4.0.tar.gz StartedAt: 2023-11-02 12:56:56 -0000 (Thu, 02 Nov 2023) EndedAt: 2023-11-02 12:58:14 -0000 (Thu, 02 Nov 2023) EllapsedTime: 77.6 seconds RetCode: 0 Status: OK CheckDir: PanViz.Rcheck Warnings: 0