Package: PWMEnrich Version: 4.38.0 Command: /home/biocbuild/bbs-3.18-bioc/R/bin/R CMD INSTALL PWMEnrich StartedAt: 2024-04-15 15:11:29 -0400 (Mon, 15 Apr 2024) EndedAt: 2024-04-15 15:11:46 -0400 (Mon, 15 Apr 2024) EllapsedTime: 16.9 seconds RetCode: 0 Status: OK