Package: PSMatch Version: 1.6.0 Command: F:\biocbuild\bbs-3.18-bioc\R\bin\R.exe CMD INSTALL PSMatch StartedAt: 2024-04-15 16:15:58 -0400 (Mon, 15 Apr 2024) EndedAt: 2024-04-15 16:16:36 -0400 (Mon, 15 Apr 2024) EllapsedTime: 38.8 seconds RetCode: 0 Status: OK