Package: PROcess Version: 1.78.0 Command: chmod a+r PROcess -R && F:\biocbuild\bbs-3.18-bioc\R\bin\R.exe CMD build --keep-empty-dirs --no-resave-data PROcess StartedAt: 2024-04-15 20:24:16 -0400 (Mon, 15 Apr 2024) EndedAt: 2024-04-15 20:24:39 -0400 (Mon, 15 Apr 2024) EllapsedTime: 23.4 seconds RetCode: 0 Status: OK PackageFile: PROcess_1.78.0.tar.gz PackageFileSize: 1.911 MiB