Package: PROcess Version: 1.78.0 Command: rm -rf PROcess.buildbin-libdir && mkdir PROcess.buildbin-libdir && F:\biocbuild\bbs-3.18-bioc\R\bin\R.exe CMD INSTALL --build --library=PROcess.buildbin-libdir PROcess_1.78.0.tar.gz StartedAt: 2024-04-16 07:27:55 -0400 (Tue, 16 Apr 2024) EndedAt: 2024-04-16 07:28:04 -0400 (Tue, 16 Apr 2024) EllapsedTime: 8.7 seconds RetCode: 0 Status: OK PackageFile: PROcess_1.78.0.zip PackageFileSize: 1.972 MiB