Package: PROcess Version: 1.78.0 Command: /Library/Frameworks/R.framework/Resources/bin/R CMD INSTALL PROcess StartedAt: 2024-04-15 16:05:56 -0400 (Mon, 15 Apr 2024) EndedAt: 2024-04-15 16:06:07 -0400 (Mon, 15 Apr 2024) EllapsedTime: 11.9 seconds RetCode: 0 Status: OK