Package: PROcess Version: 1.78.0 Command: /Library/Frameworks/R.framework/Resources/bin/R CMD build --keep-empty-dirs --no-resave-data PROcess StartedAt: 2024-03-03 17:51:56 -0500 (Sun, 03 Mar 2024) EndedAt: 2024-03-03 17:52:19 -0500 (Sun, 03 Mar 2024) EllapsedTime: 22.6 seconds RetCode: 0 Status: OK PackageFile: PROcess_1.78.0.tar.gz PackageFileSize: 1.999 MiB