Package: PROcess Version: 1.78.0 Command: /home/biocbuild/R/R-4.3.1/bin/R CMD INSTALL PROcess StartedAt: 2023-11-01 20:43:31 -0000 (Wed, 01 Nov 2023) EndedAt: 2023-11-01 20:43:38 -0000 (Wed, 01 Nov 2023) EllapsedTime: 7.2 seconds RetCode: 0 Status: OK