Package: PROcess Version: 1.78.0 Command: /home/biocbuild/R/R-4.3.1/bin/R CMD check --install=check:PROcess.install-out.txt --library=/home/biocbuild/R/R-4.3.1/site-library --no-vignettes --timings PROcess_1.78.0.tar.gz StartedAt: 2023-11-02 13:14:53 -0000 (Thu, 02 Nov 2023) EndedAt: 2023-11-02 13:15:40 -0000 (Thu, 02 Nov 2023) EllapsedTime: 47.1 seconds RetCode: 0 Status: OK CheckDir: PROcess.Rcheck Warnings: 0