Package: PROPS Version: 1.24.0 Command: /Library/Frameworks/R.framework/Resources/bin/R CMD INSTALL PROPS StartedAt: 2024-04-15 16:09:25 -0400 (Mon, 15 Apr 2024) EndedAt: 2024-04-15 16:10:07 -0400 (Mon, 15 Apr 2024) EllapsedTime: 42.7 seconds RetCode: 0 Status: OK