Package: PROPER Version: 1.34.0 Command: chmod a+r PROPER -R && F:\biocbuild\bbs-3.18-bioc\R\bin\R.exe CMD build --keep-empty-dirs --no-resave-data PROPER StartedAt: 2024-04-15 20:25:15 -0400 (Mon, 15 Apr 2024) EndedAt: 2024-04-15 20:25:29 -0400 (Mon, 15 Apr 2024) EllapsedTime: 13.6 seconds RetCode: 0 Status: OK PackageFile: PROPER_1.34.0.tar.gz PackageFileSize: 1.801 MiB