Package: PROPER Version: 1.34.0 Command: /Library/Frameworks/R.framework/Resources/bin/R CMD INSTALL PROPER StartedAt: 2024-03-03 15:08:32 -0500 (Sun, 03 Mar 2024) EndedAt: 2024-03-03 15:08:38 -0500 (Sun, 03 Mar 2024) EllapsedTime: 5.8 seconds RetCode: 0 Status: OK