Package: PROPER Version: 1.34.0 Command: rm -rf PROPER.buildbin-libdir && mkdir PROPER.buildbin-libdir && /Users/biocbuild/BBS/utils/build-universal.sh PROPER_1.34.0.tar.gz /Library/Frameworks/R.framework/Resources/bin/R PROPER.buildbin-libdir StartedAt: 2024-03-04 00:57:08 -0500 (Mon, 04 Mar 2024) EndedAt: 2024-03-04 00:57:15 -0500 (Mon, 04 Mar 2024) EllapsedTime: 6.8 seconds RetCode: 0 Status: OK PackageFile: PROPER_1.34.0.tgz PackageFileSize: 1.573 MiB