Package: PROPER Version: 1.34.0 Command: /home/biocbuild/R/R-4.3.1/bin/R CMD INSTALL PROPER StartedAt: 2023-11-01 20:12:01 -0000 (Wed, 01 Nov 2023) EndedAt: 2023-11-01 20:12:05 -0000 (Wed, 01 Nov 2023) EllapsedTime: 4.1 seconds RetCode: 0 Status: OK