Package: PREDA Version: 1.48.0 Command: F:\biocbuild\bbs-3.18-bioc\R\bin\R.exe CMD INSTALL PREDA StartedAt: 2024-04-15 16:28:16 -0400 (Mon, 15 Apr 2024) EndedAt: 2024-04-15 16:28:56 -0400 (Mon, 15 Apr 2024) EllapsedTime: 39.6 seconds RetCode: 0 Status: OK