Package: PREDA Version: 1.48.0 Command: /Library/Frameworks/R.framework/Resources/bin/R CMD INSTALL PREDA StartedAt: 2024-03-03 15:34:57 -0500 (Sun, 03 Mar 2024) EndedAt: 2024-03-03 15:35:27 -0500 (Sun, 03 Mar 2024) EllapsedTime: 30.2 seconds RetCode: 0 Status: OK