Package: PREDA Version: 1.48.0 Command: rm -rf PREDA.buildbin-libdir && mkdir PREDA.buildbin-libdir && /Users/biocbuild/BBS/utils/build-universal.sh PREDA_1.48.0.tar.gz /Library/Frameworks/R.framework/Resources/bin/R PREDA.buildbin-libdir StartedAt: 2024-03-04 00:56:46 -0500 (Mon, 04 Mar 2024) EndedAt: 2024-03-04 00:57:21 -0500 (Mon, 04 Mar 2024) EllapsedTime: 35.0 seconds RetCode: 0 Status: OK PackageFile: PREDA_1.48.0.tgz PackageFileSize: 1.986 MiB