Package: POWSC Version: 1.10.0 Command: /home/biocbuild/bbs-3.18-bioc/R/bin/R CMD build --keep-empty-dirs --no-resave-data POWSC StartedAt: 2024-04-15 18:34:45 -0400 (Mon, 15 Apr 2024) EndedAt: 2024-04-15 18:36:01 -0400 (Mon, 15 Apr 2024) EllapsedTime: 76.7 seconds RetCode: 0 Status: OK PackageFile: POWSC_1.10.0.tar.gz PackageFileSize: 1.127 MiB