Package: POWSC
Version: 1.10.0
Command: /home/biocbuild/R/R-4.3.1/bin/R CMD INSTALL POWSC
StartedAt: 2023-11-01 20:16:00 -0000 (Wed, 01 Nov 2023)
EndedAt: 2023-11-01 20:16:43 -0000 (Wed, 01 Nov 2023)
EllapsedTime: 43.7 seconds
RetCode: 0
Status: OK