Package: PING Version: 2.46.0 Command: /home/biocbuild/bbs-3.18-bioc/R/bin/R CMD build --keep-empty-dirs --no-resave-data PING StartedAt: 2024-04-15 18:33:07 -0400 (Mon, 15 Apr 2024) EndedAt: 2024-04-15 18:33:09 -0400 (Mon, 15 Apr 2024) EllapsedTime: 2.0 seconds RetCode: 0 Status: OK PackageFile: PING_2.46.0.tar.gz PackageFileSize: 4.51 MiB